<?xml version="1.0" encoding="UTF-8" standalone="no"?>
<metadata xml:lang="ja">
<Esri>
<CreaDate>20230313</CreaDate>
<CreaTime>15102000</CreaTime>
<ArcGISFormat>1.0</ArcGISFormat>
<SyncOnce>FALSE</SyncOnce>
<DataProperties>
<lineage>
<Process Date="20230116" Time="130136" ToolSource="c:\program files\arcgis\pro\Resources\ArcToolbox\toolboxes\Data Management Tools.tbx\CreateMosaicDataset">CreateMosaicDataset E:\_isrs-gis_replace\mds_createByPro.gdb template PROJCS["WGS_1984_Web_Mercator_Auxiliary_Sphere",GEOGCS["GCS_WGS_1984",DATUM["D_WGS_1984",SPHEROID["WGS_1984",6378137.0,298.257223563]],PRIMEM["Greenwich",0.0],UNIT["Degree",0.0174532925199433]],PROJECTION["Mercator_Auxiliary_Sphere"],PARAMETER["False_Easting",0.0],PARAMETER["False_Northing",0.0],PARAMETER["Central_Meridian",0.0],PARAMETER["Standard_Parallel_1",0.0],PARAMETER["Auxiliary_Sphere_Type",0.0],UNIT["Meter",1.0]] # # なし #</Process>
<Process Date="20230117" Time="015435" ToolSource="c:\program files\arcgis\pro\Resources\ArcToolbox\toolboxes\Data Management Tools.tbx\CopyMultiple">CopyMultiple "E:\_isrs-gis_replace\mds_createByPro.gdb\template MosaicDataset" C:\Users\Administrator\Desktop\ArcGISPro管理用\geodb.sde template "template MosaicDataset geodb.sde.template #"</Process>
<Process Date="20230117" Time="015537" ToolSource="c:\program files\arcgis\pro\Resources\ArcToolbox\toolboxes\Data Management Tools.tbx\Rename">Rename C:\Users\Administrator\Desktop\ArcGISPro管理用\geodb.sde\geodb.sde.template C:\Users\Administrator\Desktop\ArcGISPro管理用\geodb.sde\geodb.sde.sdjma MosaicDataset</Process>
<Process Date="20230117" Time="024844" ToolSource="c:\program files (x86)\arcgis\desktop10.8\ArcToolbox\Toolboxes\Data Management Tools.tbx\SetMosaicDatasetProperties">SetMosaicDatasetProperties データベース接続\geodb.sde\geodb.sde.sdjma 4100 15000 None;JPEG;LZ77;LERC None 75 0.01 NEAREST NOT_CLIP FOOTPRINTS_MAY_CONTAIN_NODATA CLIP NOT_APPLY # NONE ByAttribute;NorthWest;Center;LockRaster;Nadir;Viewpoint;Seamline;None ByAttribute StdTime # DESCENDING FIRST 10 600 300 20 0.8 "0 0" BASIC Name;MinPS;MaxPS;LowPS;HighPS;Tag;GroupName;ProductName;CenterX;CenterY;ZOrder;data_datetime;vflg;Variable;Dimensions;StdTime ENABLED data_datetime data_datetime # # 20 1000 SCIENTIFIC 1 E:/NIED_MizuDosha/凡例作成用_雪氷/template/sdjma.rft.xml;None E:/NIED_MizuDosha/凡例作成用_雪氷/template/sdjma.rft.xml 1 Hours NONE #</Process>
<Process Date="20230310" Time="212138" ToolSource="c:\program files (x86)\arcgis\desktop10.8\ArcToolbox\Toolboxes\Data Management Tools.tbx\RemoveRastersFromMosaicDataset">RemoveRastersFromMosaicDataset データベース接続\geodb.sde\geodb.sde.vi "NOT NULL" UPDATE_BOUNDARY MARK_OVERVIEW_ITEMS DELETE_OVERVIEW_IMAGES DELETE_ITEM_CACHE REMOVE_MOSAICDATASET_ITEMS UPDATE_CELL_SIZES</Process>
<Process Date="20230310" Time="212409" ToolSource="c:\program files (x86)\arcgis\desktop10.8\ArcToolbox\Toolboxes\Data Management Tools.tbx\SetMosaicDatasetProperties">SetMosaicDatasetProperties データベース接続\geodb.sde\geodb.sde.vi 4100 15000 None;JPEG;LZ77;LERC None 75 0.01 NEAREST NOT_CLIP FOOTPRINTS_MAY_CONTAIN_NODATA CLIP NOT_APPLY # NONE ByAttribute;NorthWest;Center;LockRaster;Nadir;Viewpoint;Seamline;None ByAttribute StdTime # DESCENDING FIRST 10 600 300 20 0.8 "0 0" BASIC Name;MinPS;MaxPS;LowPS;HighPS;Tag;GroupName;ProductName;CenterX;CenterY;ZOrder;data_datetime;vflg;Variable;Dimensions;StdTime ENABLED data_datetime data_datetime # # 20 1000 SCIENTIFIC 1 None None 1 Hours NONE #</Process>
<Process Date="20230310" Time="212455" ToolSource="c:\program files (x86)\arcgis\desktop10.8\ArcToolbox\Toolboxes\Data Management Tools.tbx\SetMosaicDatasetProperties">SetMosaicDatasetProperties データベース接続\geodb.sde\geodb.sde.vi 4100 15000 None;JPEG;LZ77;LERC None 75 0.01 NEAREST NOT_CLIP FOOTPRINTS_MAY_CONTAIN_NODATA CLIP NOT_APPLY # NONE ByAttribute;NorthWest;Center;LockRaster;Nadir;Viewpoint;Seamline;None ByAttribute StdTime # DESCENDING FIRST 10 600 300 20 0.8 "0 0" BASIC Name;MinPS;MaxPS;LowPS;HighPS;Tag;GroupName;ProductName;CenterX;CenterY;ZOrder;data_datetime;vflg;Variable;Dimensions;StdTime ENABLED data_datetime data_datetime # # 20 1000 SCIENTIFIC 1 sdjma;None None 1 Hours NONE #</Process>
<Process Date="20230310" Time="212556" ToolSource="c:\program files (x86)\arcgis\desktop10.8\ArcToolbox\Toolboxes\Data Management Tools.tbx\SetMosaicDatasetProperties">SetMosaicDatasetProperties データベース接続\geodb.sde\geodb.sde.vi 4100 15000 None;JPEG;LZ77;LERC None 75 0.01 NEAREST NOT_CLIP FOOTPRINTS_MAY_CONTAIN_NODATA CLIP NOT_APPLY # NONE ByAttribute;NorthWest;Center;LockRaster;Nadir;Viewpoint;Seamline;None ByAttribute StdTime # DESCENDING FIRST 10 600 300 20 0.8 "0 0" BASIC Name;MinPS;MaxPS;LowPS;HighPS;Tag;GroupName;ProductName;CenterX;CenterY;ZOrder;data_datetime;vflg;Variable;Dimensions;StdTime ENABLED data_datetime data_datetime # # 20 1000 SCIENTIFIC 1 E:/NIED_MizuDosha_demo/凡例作成・視程/vi.rft.xml;sdjma;None E:/NIED_MizuDosha_demo/凡例作成・視程/vi.rft.xml 1 Hours NONE #</Process>
<Process Date="20230310" Time="214603" ToolSource="c:\program files (x86)\arcgis\desktop10.8\ArcToolbox\Toolboxes\Data Management Tools.tbx\SetMosaicDatasetProperties">SetMosaicDatasetProperties データベース接続\geodb.sde\geodb.sde.vi 4100 15000 None;JPEG;LZ77;LERC None 75 0.01 NEAREST NOT_CLIP FOOTPRINTS_MAY_CONTAIN_NODATA CLIP NOT_APPLY # NONE ByAttribute;NorthWest;Center;LockRaster;Nadir;Viewpoint;Seamline;None ByAttribute StdTime # DESCENDING FIRST 10 600 300 20 0.8 "0 0" BASIC Name;MinPS;MaxPS;LowPS;HighPS;Tag;GroupName;ProductName;CenterX;CenterY;ZOrder;data_datetime;vflg;Variable;Dimensions;StdTime ENABLED data_datetime data_datetime # # 20 1000 SCIENTIFIC 1 E:/NIED_MizuDosha_demo/凡例作成・視程/vi.rft.xml;None E:/NIED_MizuDosha_demo/凡例作成・視程/vi.rft.xml 1 Hours NONE #</Process>
<Process Date="20230310" Time="222211" ToolSource="c:\program files (x86)\arcgis\desktop10.8\ArcToolbox\Toolboxes\Data Management Tools.tbx\SetMosaicDatasetProperties">SetMosaicDatasetProperties データベース接続\geodb.sde\geodb.sde.vi 4100 15000 None;JPEG;LZ77;LERC None 75 0.01 NEAREST NOT_CLIP FOOTPRINTS_MAY_CONTAIN_NODATA CLIP NOT_APPLY # NONE ByAttribute;NorthWest;Center;LockRaster;Nadir;Viewpoint;Seamline;None ByAttribute StdTime # DESCENDING FIRST 10 600 300 20 0.8 "0 0" BASIC Name;MinPS;MaxPS;LowPS;HighPS;Tag;GroupName;ProductName;CenterX;CenterY;ZOrder;data_datetime;vflg;Variable;Dimensions;StdTime ENABLED data_datetime data_datetime # # 20 1000 SCIENTIFIC 1 None None 1 Hours NONE #</Process>
<Process Date="20230310" Time="222545" ToolSource="c:\program files (x86)\arcgis\desktop10.8\ArcToolbox\Toolboxes\Data Management Tools.tbx\SetMosaicDatasetProperties">SetMosaicDatasetProperties データベース接続\geodb.sde\geodb.sde.vi 4100 15000 None;JPEG;LZ77;LERC None 75 0.01 NEAREST NOT_CLIP FOOTPRINTS_MAY_CONTAIN_NODATA CLIP NOT_APPLY # NONE ByAttribute;NorthWest;Center;LockRaster;Nadir;Viewpoint;Seamline;None ByAttribute StdTime # DESCENDING FIRST 10 600 300 20 0.8 "0 0" BASIC Name;MinPS;MaxPS;LowPS;HighPS;Tag;GroupName;ProductName;CenterX;CenterY;ZOrder;data_datetime;vflg;Variable;Dimensions;StdTime ENABLED data_datetime data_datetime # # 20 1000 SCIENTIFIC 1 E:/NIED_MizuDosha_demo/sample_data/vi.rft.xml;None E:/NIED_MizuDosha_demo/sample_data/vi.rft.xml 1 Hours NONE #</Process>
<Process Date="20230313" Time="112247" ToolSource="c:\program files (x86)\arcgis\desktop10.8\ArcToolbox\Toolboxes\Data Management Tools.tbx\RemoveRastersFromMosaicDataset">RemoveRastersFromMosaicDataset E:\NIED_MizuDosha_demo\ArcMap-Legends\ArcMap-Legends.gdb\vi "name IS NOT NULL" UPDATE_BOUNDARY MARK_OVERVIEW_ITEMS DELETE_OVERVIEW_IMAGES DELETE_ITEM_CACHE REMOVE_MOSAICDATASET_ITEMS UPDATE_CELL_SIZES</Process>
<Process Date="20230313" Time="112708" ToolSource="c:\program files (x86)\arcgis\desktop10.8\ArcToolbox\Toolboxes\Data Management Tools.tbx\SetMosaicDatasetProperties">SetMosaicDatasetProperties E:\NIED_MizuDosha_demo\ArcMap-Legends\ArcMap-Legends.gdb\vi 4100 15000 None;JPEG;LZ77;LERC None 75 0.01 NEAREST NOT_CLIP FOOTPRINTS_MAY_CONTAIN_NODATA CLIP NOT_APPLY # NONE ByAttribute;NorthWest;Center;LockRaster;Nadir;Viewpoint;Seamline;None ByAttribute StdTime # DESCENDING FIRST 10 600 300 20 0.8 "0 0" BASIC Name;MinPS;MaxPS;LowPS;HighPS;Tag;GroupName;ProductName;CenterX;CenterY;ZOrder;data_datetime;vflg;Variable;Dimensions;StdTime ENABLED data_datetime data_datetime # # 20 1000 SCIENTIFIC 1 None None 1 Hours NONE #</Process>
<Process Date="20230313" Time="145734" ToolSource="c:\program files (x86)\arcgis\desktop10.8\ArcToolbox\Toolboxes\Data Management Tools.tbx\SetMosaicDatasetProperties">SetMosaicDatasetProperties E:\NIED_MizuDosha_demo\ArcMap-Legends\ArcMap-Legends.gdb\rain_e90m 4100 15000 None;JPEG;LZ77;LERC None 75 0.01 NEAREST NOT_CLIP FOOTPRINTS_MAY_CONTAIN_NODATA CLIP NOT_APPLY # NONE ByAttribute;NorthWest;Center;LockRaster;Nadir;Viewpoint;Seamline;None ByAttribute StdTime # DESCENDING FIRST 10 600 300 20 0.8 "0 0" BASIC Name;MinPS;MaxPS;LowPS;HighPS;Tag;GroupName;ProductName;CenterX;CenterY;ZOrder;data_datetime;vflg;Variable;Dimensions;StdTime ENABLED data_datetime data_datetime # # 20 1000 SCIENTIFIC 1 E:/NIED_MizuDosha_demo/ArcMap-Legends/rain_e90m.rft.xml;None E:/NIED_MizuDosha_demo/ArcMap-Legends/rain_e90m.rft.xml 1 Hours NONE #</Process>
<Process Date="20230313" Time="200817" ToolSource="c:\program files (x86)\arcgis\desktop10.8\ArcToolbox\Toolboxes\Data Management Tools.tbx\SetMosaicDatasetProperties">SetMosaicDatasetProperties データベース接続\geodb.sde\geodb.sde.rain_e90m 4100 15000 None;JPEG;LZ77;LERC None 75 0.01 NEAREST NOT_CLIP FOOTPRINTS_MAY_CONTAIN_NODATA CLIP NOT_APPLY # NONE ByAttribute;NorthWest;Center;LockRaster;Nadir;Viewpoint;Seamline;None ByAttribute StdTime # DESCENDING FIRST 10 600 300 20 0.8 "0 0" BASIC Name;MinPS;MaxPS;LowPS;HighPS;Tag;GroupName;ProductName;CenterX;CenterY;ZOrder;data_datetime;vflg;Variable;Dimensions;StdTime ENABLED data_datetime data_datetime # # 20 1000 SCIENTIFIC 1 None;e90m None 1 Hours NONE #</Process>
<Process Date="20230313" Time="200927" ToolSource="c:\program files (x86)\arcgis\desktop10.8\ArcToolbox\Toolboxes\Data Management Tools.tbx\SetMosaicDatasetProperties">SetMosaicDatasetProperties データベース接続\geodb.sde\geodb.sde.rain_e90m 4100 15000 None;JPEG;LZ77;LERC None 75 0.01 NEAREST NOT_CLIP FOOTPRINTS_MAY_CONTAIN_NODATA CLIP NOT_APPLY # NONE ByAttribute;NorthWest;Center;LockRaster;Nadir;Viewpoint;Seamline;None ByAttribute StdTime # DESCENDING FIRST 10 600 300 20 0.8 "0 0" BASIC Name;MinPS;MaxPS;LowPS;HighPS;Tag;GroupName;ProductName;CenterX;CenterY;ZOrder;data_datetime;vflg;Variable;Dimensions;StdTime ENABLED data_datetime data_datetime # # 20 1000 SCIENTIFIC 1 E:/NIED_MizuDosha_demo/ArcMap-Legends/rain_e90m.rft.xml;None;e90m E:/NIED_MizuDosha_demo/ArcMap-Legends/rain_e90m.rft.xml 1 Hours NONE #</Process>
</lineage>
<itemProps>
<itemLocation>
<linkage Sync="TRUE">Server=172.16.11.164; Service=sde:postgresql:172.16.11.164; Database=geodb; User=sde; Version=sde.DEFAULT</linkage>
<protocol Sync="TRUE">ArcSDE Connection</protocol>
</itemLocation>
<itemName Sync="TRUE">geodb.sde.vi</itemName>
<nativeExtBox>
<westBL Sync="TRUE">13354860.161100</westBL>
<eastBL Sync="TRUE">16705576.833975</eastBL>
<southBL Sync="TRUE">2554827.368533</southBL>
<northBL Sync="TRUE">6044693.404900</northBL>
<exTypeCode Sync="TRUE">1</exTypeCode>
</nativeExtBox>
</itemProps>
<coordRef>
<type Sync="TRUE">Projected</type>
<geogcsn Sync="TRUE">GCS_WGS_1984</geogcsn>
<csUnits Sync="TRUE">Linear Unit: Meter (1.000000)</csUnits>
<projcsn Sync="TRUE">WGS_1984_Web_Mercator_Auxiliary_Sphere</projcsn>
<peXml Sync="TRUE">&lt;ProjectedCoordinateSystem xsi:type='typens:ProjectedCoordinateSystem' xmlns:xsi='http://www.w3.org/2001/XMLSchema-instance' xmlns:xs='http://www.w3.org/2001/XMLSchema' xmlns:typens='http://www.esri.com/schemas/ArcGIS/10.8'&gt;&lt;WKT&gt;PROJCS[&amp;quot;WGS_1984_Web_Mercator_Auxiliary_Sphere&amp;quot;,GEOGCS[&amp;quot;GCS_WGS_1984&amp;quot;,DATUM[&amp;quot;D_WGS_1984&amp;quot;,SPHEROID[&amp;quot;WGS_1984&amp;quot;,6378137.0,298.257223563]],PRIMEM[&amp;quot;Greenwich&amp;quot;,0.0],UNIT[&amp;quot;Degree&amp;quot;,0.0174532925199433]],PROJECTION[&amp;quot;Mercator_Auxiliary_Sphere&amp;quot;],PARAMETER[&amp;quot;False_Easting&amp;quot;,0.0],PARAMETER[&amp;quot;False_Northing&amp;quot;,0.0],PARAMETER[&amp;quot;Central_Meridian&amp;quot;,0.0],PARAMETER[&amp;quot;Standard_Parallel_1&amp;quot;,0.0],PARAMETER[&amp;quot;Auxiliary_Sphere_Type&amp;quot;,0.0],UNIT[&amp;quot;Meter&amp;quot;,1.0],AUTHORITY[&amp;quot;EPSG&amp;quot;,3857]]&lt;/WKT&gt;&lt;XOrigin&gt;-20037700&lt;/XOrigin&gt;&lt;YOrigin&gt;-30241100&lt;/YOrigin&gt;&lt;XYScale&gt;148923141.92838538&lt;/XYScale&gt;&lt;ZOrigin&gt;-100000&lt;/ZOrigin&gt;&lt;ZScale&gt;10000&lt;/ZScale&gt;&lt;MOrigin&gt;-100000&lt;/MOrigin&gt;&lt;MScale&gt;10000&lt;/MScale&gt;&lt;XYTolerance&gt;0.001&lt;/XYTolerance&gt;&lt;ZTolerance&gt;0.001&lt;/ZTolerance&gt;&lt;MTolerance&gt;0.001&lt;/MTolerance&gt;&lt;HighPrecision&gt;true&lt;/HighPrecision&gt;&lt;WKID&gt;102100&lt;/WKID&gt;&lt;LatestWKID&gt;3857&lt;/LatestWKID&gt;&lt;/ProjectedCoordinateSystem&gt;</peXml>
</coordRef>
<RasterProperties>
<General>
<PixelDepth Sync="TRUE">32</PixelDepth>
<HasColormap Sync="TRUE">FALSE</HasColormap>
<CompressionType Sync="TRUE">None</CompressionType>
<NumBands Sync="TRUE">1</NumBands>
<Format Sync="TRUE">AMD</Format>
<HasPyramids Sync="TRUE">TRUE</HasPyramids>
<SourceType Sync="TRUE">continuous</SourceType>
<PixelType Sync="TRUE">floating point</PixelType>
<NoDataValue Sync="TRUE">-999</NoDataValue>
</General>
<Properties>
<MaxImageHeight Sync="TRUE">4100</MaxImageHeight>
<MaxImageWidth Sync="TRUE">15000</MaxImageWidth>
<MaxRecordCount Sync="TRUE">1000</MaxRecordCount>
<MaxDownloadImageCount Sync="TRUE">20</MaxDownloadImageCount>
<MaxDownloadSizeLimit Sync="TRUE">2048</MaxDownloadSizeLimit>
<MaxMosaicImageCount Sync="TRUE">20</MaxMosaicImageCount>
<DefaultCompressionQuality Sync="TRUE">75</DefaultCompressionQuality>
<DefaultCompressionTolerance Sync="TRUE">0.01</DefaultCompressionTolerance>
<BlendWidth Sync="TRUE">10</BlendWidth>
<ViewpointSpacingX Sync="TRUE">600</ViewpointSpacingX>
<ViewpointSpacingY Sync="TRUE">300</ViewpointSpacingY>
<AllowedItemMetadata Sync="TRUE">Basic</AllowedItemMetadata>
<DefaultResamplingMethod Sync="TRUE">0</DefaultResamplingMethod>
<AllowedMosaicMethods Sync="TRUE">ByAttribute,NorthWest,Center,LockRaster,Nadir,Viewpoint,Seamline,None</AllowedMosaicMethods>
<AllowedCompressions Sync="TRUE">None,JPEG,LZ77,LERC</AllowedCompressions>
<AllowedMensurationCapabilities Sync="TRUE">NONE</AllowedMensurationCapabilities>
<AvailableMensurationCapabilities Sync="TRUE">None,Basic,Base-Top Height,Top-Top Shadow Height,Base-Top Shadow Height,3D</AvailableMensurationCapabilities>
<ClipToBoundary Sync="TRUE">-1</ClipToBoundary>
<FootprintMayContainNoData Sync="TRUE">-1</FootprintMayContainNoData>
<CellSizeTolerance Sync="TRUE">0.8</CellSizeTolerance>
<MinimumPixelContribution Sync="TRUE">1</MinimumPixelContribution>
<AvailableMosaicMethods Sync="TRUE">NorthWest,Center,LockRaster,ByAttribute,Nadir,Viewpoint,Seamline,None</AvailableMosaicMethods>
<AvailableCompressionMethods Sync="TRUE">None,JPEG,LZ77,LERC</AvailableCompressionMethods>
<AvailableItemMetadataLevels Sync="TRUE">None,Basic,Full</AvailableItemMetadataLevels>
<BandDefinitionKeyword Sync="TRUE">NONE</BandDefinitionKeyword>
<_docversion_ Sync="TRUE">10</_docversion_>
<AllowedFields Sync="TRUE">Name,MinPS,MaxPS,LowPS,HighPS,Tag,GroupName,ProductName,CenterX,CenterY,ZOrder,data_datetime,vflg,Variable,Dimensions,StdTime</AllowedFields>
<LowCellSize Sync="TRUE">5565.97453966</LowCellSize>
<HighCellSize Sync="TRUE">5565.97453966</HighCellSize>
<MaxCellSize Sync="TRUE">100000</MaxCellSize>
<AvailableFields Sync="TRUE">Name,MinPS,MaxPS,LowPS,HighPS,Tag,GroupName,ProductName,CenterX,CenterY,ZOrder,Shape_Length,Shape_Area,data_datetime,vflg</AvailableFields>
<SortableFields Sync="TRUE">MinPS,MaxPS,LowPS,HighPS,CenterX,CenterY,ZOrder,Shape_Length,Shape_Area,data_datetime,vflg</SortableFields>
<SortAscending Sync="TRUE">0</SortAscending>
<MosaicOperator Sync="TRUE">1</MosaicOperator>
<BlendWidthUnits Sync="TRUE">1</BlendWidthUnits>
<ClipToFootprint Sync="TRUE">0</ClipToFootprint>
<ClipOverviewsToFootprint Sync="TRUE">0</ClipOverviewsToFootprint>
<HasDodgingTable Sync="TRUE">0</HasDodgingTable>
<ApplyColorCorrection Sync="TRUE">0</ApplyColorCorrection>
<UseTime Sync="TRUE">-1</UseTime>
<StartTimeFieldName Sync="TRUE">data_datetime</StartTimeFieldName>
<EndTimeFieldName Sync="TRUE">data_datetime</EndTimeFieldName>
<TimeValueFormat Sync="TRUE"/>
<UseRange Sync="TRUE">0</UseRange>
<TimeInterval Sync="TRUE">1</TimeInterval>
<TimeIntervalUnits Sync="TRUE">Hours</TimeIntervalUnits>
<SortField Sync="TRUE">StdTime</SortField>
<DataType Sync="TRUE">Scientific</DataType>
<TimeStamp.RemoveItems Sync="TRUE">44994.7503270139</TimeStamp.RemoveItems>
<TimeStamp.UpdateExtent Sync="TRUE">44994.7503274653</TimeStamp.UpdateExtent>
</Properties>
<Functions Sync="TRUE">
<Function Description="ラスター カタログのリアルタイム モザイクを実行します。" Name="モザイク関数"/>
</Functions>
</RasterProperties>
</DataProperties>
<SyncDate>20230310</SyncDate>
<SyncTime>22324200</SyncTime>
<ModDate>20230310</ModDate>
<ModTime>22324200</ModTime>
</Esri>
<dataIdInfo>
<envirDesc Sync="TRUE"> Version 6.2 (Build 9200) ; Esri ArcGIS 10.9.1.28388</envirDesc>
<dataLang>
<languageCode Sync="TRUE" value="jpn"/>
<countryCode Sync="TRUE" value="JPN"/>
</dataLang>
<idCitation>
<resTitle Sync="TRUE">rain_e90m</resTitle>
<presForm>
<PresFormCd Sync="TRUE" value="005"/>
</presForm>
</idCitation>
<spatRpType>
<SpatRepTypCd Sync="TRUE" value="002"/>
</spatRpType>
<dataExt>
<geoEle>
<GeoBndBox esriExtentType="search">
<exTypeCode Sync="TRUE">1</exTypeCode>
<westBL Sync="TRUE">119.968750</westBL>
<eastBL Sync="TRUE">150.068750</eastBL>
<northBL Sync="TRUE">47.625000</northBL>
<southBL Sync="TRUE">22.360204</southBL>
</GeoBndBox>
</geoEle>
</dataExt>
<idAbs/>
<searchKeys>
<keyword>半減期1.5時間実効雨量</keyword>
</searchKeys>
<idPurp>半減期1.5時間実効雨量</idPurp>
<idCredit/>
<resConst>
<Consts>
<useLimit/>
</Consts>
</resConst>
</dataIdInfo>
<mdLang>
<languageCode Sync="TRUE" value="jpn"/>
<countryCode Sync="TRUE" value="JPN"/>
</mdLang>
<refSysInfo>
<RefSystem>
<refSysID>
<identCode Sync="TRUE" code="3857"/>
<idCodeSpace Sync="TRUE">EPSG</idCodeSpace>
<idVersion Sync="TRUE">6.18.3(9.3.1.2)</idVersion>
</refSysID>
</RefSystem>
</refSysInfo>
<spatRepInfo>
<Georect>
<cellGeo>
<CellGeoCd Sync="TRUE" value="002"/>
</cellGeo>
<numDims Sync="TRUE">2</numDims>
<tranParaAv Sync="TRUE">1</tranParaAv>
<chkPtAv Sync="TRUE">0</chkPtAv>
<cornerPts>
<pos Sync="TRUE">13354860.161100 2554827.368533</pos>
</cornerPts>
<cornerPts>
<pos Sync="TRUE">13354860.161100 6044693.404900</pos>
</cornerPts>
<cornerPts>
<pos Sync="TRUE">16705576.833975 6044693.404900</pos>
</cornerPts>
<cornerPts>
<pos Sync="TRUE">16705576.833975 2554827.368533</pos>
</cornerPts>
<centerPt>
<pos Sync="TRUE">15030218.497538 4299760.386717</pos>
</centerPt>
<axisDimension type="002">
<dimSize Sync="TRUE">602</dimSize>
<dimResol>
<value Sync="TRUE" uom="m">5565.974540</value>
</dimResol>
</axisDimension>
<axisDimension type="001">
<dimSize Sync="TRUE">627</dimSize>
<dimResol>
<value Sync="TRUE" uom="m">5565.974540</value>
</dimResol>
</axisDimension>
<ptInPixel>
<PixOrientCd Sync="TRUE" value="001"/>
</ptInPixel>
</Georect>
</spatRepInfo>
<contInfo>
<ImgDesc>
<contentTyp>
<ContentTypCd Sync="TRUE" value="001"/>
</contentTyp>
<covDim>
<Band>
<dimDescrp Sync="TRUE">Band_1</dimDescrp>
<bitsPerVal Sync="TRUE">32</bitsPerVal>
<valUnit>
<UOM type="length"/>
</valUnit>
</Band>
</covDim>
</ImgDesc>
</contInfo>
<mdDateSt Sync="TRUE">20230310</mdDateSt>
</metadata>
