View In:
ArcGIS JavaScript
ArcGIS Online Map Viewer
ArcGIS Earth
ArcMap
View Footprint In:
ArcGIS Online Map Viewer
Service Description: dep_mizu/rain_r24hrp
Name: dep_mizu/rain_r24hrp
Description:
Single Fused Map Cache: false
Extent:
XMin: 1.39010214128E7
YMin: 2731065.1933122696
XMax: 1.6280475528508069E7
YMax: 6010351.8596
Spatial Reference: 102100
(3857)
LatestVCSWkid(0)
Initial Extent:
XMin: 1.39010214128E7
YMin: 2731065.1933122696
XMax: 1.6280475528508069E7
YMax: 6010351.8596
Spatial Reference: 102100
(3857)
LatestVCSWkid(0)
Full Extent:
XMin: 1.39010214128E7
YMin: 2731065.1933122696
XMax: 1.6280475528508069E7
YMax: 6010351.8596
Spatial Reference: 102100
(3857)
LatestVCSWkid(0)
Time Info:
Start Time Field: data_datetime
End Time Field: data_datetime
Time Extent:
[2026/06/11 18:00:00 UTC, 2026/06/12 19:50:00 UTC]
Time Reference:
N/A
Pixel Size X: 4638.31211639
Pixel Size Y: 4638.3121163900005
Band Count: 1
Pixel Type: F32
RasterFunction Infos: {"rasterFunctionInfos": [
{
"name": "rain_r24hrp",
"description": "ラスター関数のテンプレート。",
"help": ""
},
{
"name": "None",
"description": "No Operation 関数。",
"help": ""
},
{
"name": "r24hrp",
"description": "ラスター関数のテンプレート。",
"help": ""
}
]}
Mensuration Capabilities: None
Has Histograms: true
Has Colormap: false
Has Multi Dimensions : true
Rendering Rule:
Min Scale: 0
Max Scale: 0
Copyright Text:
Service Data Type: esriImageServiceDataTypeScientific
Min Values: -32702.046875
Max Values: 934.046875
Mean Values: -15903.29918096013
Standard Deviation Values: 715.8694721821147
Object ID Field: objectid
Fields:
-
objectid
(
type: esriFieldTypeOID, alias: OBJECTID
)
-
name
(
type: esriFieldTypeString, alias: Name, length: 200
)
-
minps
(
type: esriFieldTypeDouble, alias: MinPS
)
-
maxps
(
type: esriFieldTypeDouble, alias: MaxPS
)
-
lowps
(
type: esriFieldTypeDouble, alias: LowPS
)
-
highps
(
type: esriFieldTypeDouble, alias: HighPS
)
-
category
(
type: esriFieldTypeInteger, alias: Category
, Coded Values:
[0: Unknown]
, [1: Primary]
, [2: Overview]
, ...6 more...
)
-
tag
(
type: esriFieldTypeString, alias: Tag, length: 100
)
-
groupname
(
type: esriFieldTypeString, alias: GroupName, length: 100
)
-
productname
(
type: esriFieldTypeString, alias: ProductName, length: 100
)
-
centerx
(
type: esriFieldTypeDouble, alias: CenterX
)
-
centery
(
type: esriFieldTypeDouble, alias: CenterY
)
-
zorder
(
type: esriFieldTypeInteger, alias: ZOrder
)
-
data_datetime
(
type: esriFieldTypeDate, alias: data_datetime, length: 8
)
-
vflg
(
type: esriFieldTypeSmallInteger, alias: vflg
)
-
variable
(
type: esriFieldTypeString, alias: Variable, length: 50
)
-
dimensions
(
type: esriFieldTypeString, alias: Dimensions, length: 50
)
-
stdtime
(
type: esriFieldTypeDate, alias: Standard Time, length: 8
)
-
shape
(
type: esriFieldTypeGeometry, alias: Shape
)
Default Mosaic Method: ByAttribute
Allowed Mosaic Methods: ByAttribute,NorthWest,Center,LockRaster,Nadir,Viewpoint,Seamline,None
SortField: StdTime
SortValue: 0
Mosaic Operator: First
Default Compression Quality: 75
Default Resampling Method: Nearest
Max Record Count: 1000
Max Image Height: 4100
Max Image Width: 15000
Max Download Image Count: 20
Max Mosaic Image Count: 20
Allow Raster Function: true
Allow Copy: true
Allow Analysis: true
Allow Compute TiePoints: false
Supports Statistics: true
Supports Advanced Queries: true
Use StandardizedQueries: true
Raster Type Infos:
Name: Raster Dataset
Description: すべての ArcGIS ラスター データセットをサポートします。
Help:
Has Raster Attribute Table: false
Edit Fields Info: null
Ownership Based AccessControl For Rasters: null
Child Resources:
Info
Histograms
Statistics
Key Properties
Legend
Raster Function Infos
Multidimensional Info
Slices
Supported Operations:
Export Image
Query
Identify
Compute Histograms
Compute Statistics Histograms
Get Samples
Compute Class Statistics
Query Boundary
Compute Pixel Location
Compute Angles
Validate
Project