View In:
ArcGIS JavaScript
ArcGIS Online Map Viewer
ArcGIS Earth
ArcMap
View Footprint In:
ArcGIS Online Map Viewer
Service Description: dep_snow/fsjma12h
Name: dep_snow/fsjma12h
Description:
Single Fused Map Cache: false
Extent:
XMin: 1.3135699913600001E7
YMin: 2273030.927000001
XMax: 1.6697923619000003E7
YMax: 6106854.834899999
Spatial Reference: 102100
(3857)
LatestVCSWkid(0)
Initial Extent:
XMin: 1.3135699913600001E7
YMin: 2273030.927000001
XMax: 1.6697923619000003E7
YMax: 6106854.834899999
Spatial Reference: 102100
(3857)
LatestVCSWkid(0)
Full Extent:
XMin: 1.3135699913600001E7
YMin: 2273030.927000001
XMax: 1.6697923619000003E7
YMax: 6106854.834899999
Spatial Reference: 102100
(3857)
LatestVCSWkid(0)
Pixel Size X: 3562223.7054000013
Pixel Size Y: 3833823.907899998
Band Count: 1
Pixel Type: S16
RasterFunction Infos: {"rasterFunctionInfos": [
{
"name": "fsjma12h",
"description": "ラスター関数のテンプレート。",
"help": ""
},
{
"name": "None",
"description": "No Operation 関数。",
"help": ""
}
]}
Mensuration Capabilities: NONE
Has Histograms: true
Has Colormap: false
Has Multi Dimensions : false
Rendering Rule:
Min Scale: 0
Max Scale: 0
Copyright Text:
Service Data Type: esriImageServiceDataTypeScientific
Min Values: -29.74609375
Max Values: 99.74609375
Mean Values: -11.038587575502321
Standard Deviation Values: 3.8597224853636583
Object ID Field: objectid
Fields:
-
objectid
(
type: esriFieldTypeOID, alias: OBJECTID
)
-
name
(
type: esriFieldTypeString, alias: Name, length: 200
)
-
minps
(
type: esriFieldTypeDouble, alias: MinPS
)
-
maxps
(
type: esriFieldTypeDouble, alias: MaxPS
)
-
lowps
(
type: esriFieldTypeDouble, alias: LowPS
)
-
highps
(
type: esriFieldTypeDouble, alias: HighPS
)
-
category
(
type: esriFieldTypeInteger, alias: Category
, Coded Values:
[0: Unknown]
, [1: Primary]
, [2: Overview]
, ...6 more...
)
-
tag
(
type: esriFieldTypeString, alias: Tag, length: 100
)
-
groupname
(
type: esriFieldTypeString, alias: GroupName, length: 100
)
-
productname
(
type: esriFieldTypeString, alias: ProductName, length: 100
)
-
centerx
(
type: esriFieldTypeDouble, alias: CenterX
)
-
centery
(
type: esriFieldTypeDouble, alias: CenterY
)
-
zorder
(
type: esriFieldTypeInteger, alias: ZOrder
)
-
data_datetime
(
type: esriFieldTypeDate, alias: data_datetime, length: 8
)
-
vflg
(
type: esriFieldTypeSmallInteger, alias: vflg
)
-
shape
(
type: esriFieldTypeGeometry, alias: Shape
)
-
variable
(
type: esriFieldTypeString, alias: Variable, length: 50
)
-
dimensions
(
type: esriFieldTypeString, alias: Dimensions, length: 50
)
-
stdtime
(
type: esriFieldTypeDate, alias: Standard Time, length: 8
)
Default Mosaic Method: ByAttribute
Allowed Mosaic Methods: ByAttribute,NorthWest,Center,LockRaster,Nadir,Viewpoint,Seamline,None
SortField: StdTime
SortValue: 0
Mosaic Operator: First
Default Compression Quality: 75
Default Resampling Method: Nearest
Max Record Count: 1000
Max Image Height: 4100
Max Image Width: 15000
Max Download Image Count: 20
Max Mosaic Image Count: 20
Allow Raster Function: true
Allow Copy: true
Allow Analysis: true
Allow Compute TiePoints: false
Supports Statistics: true
Supports Advanced Queries: true
Use StandardizedQueries: true
Raster Type Infos:
Name: Raster Dataset
Description: すべての ArcGIS ラスター データセットをサポートします。
Help:
Has Raster Attribute Table: false
Edit Fields Info: null
Ownership Based AccessControl For Rasters: null
Child Resources:
Info
Histograms
Statistics
Key Properties
Legend
Raster Function Infos
Supported Operations:
Export Image
Query
Identify
Measure
Compute Histograms
Compute Statistics Histograms
Get Samples
Compute Class Statistics
Query Boundary
Compute Pixel Location
Compute Angles
Validate
Project